BEGIN:VCALENDAR
VERSION:2.0
PRODID:icalendar-ruby
CALSCALE:GREGORIAN
METHOD:PUBLISH
BEGIN:VEVENT
DTSTAMP:20260423T104040Z
UID:5-402947@doubleoakchristian.org
DTSTART:20260809T140000Z
DTEND:20260809T150000Z
CLASS:PUBLIC
CREATED:20260422T231807
DESCRIPTION:Sunday Worship
LAST-MODIFIED:20260422T231807
LOCATION:
SUMMARY:Sunday Worship
URL;VALUE=URI:https://doubleoakchristian.org/events/sunday-worship/2026-08-
 09
END:VEVENT
END:VCALENDAR
