BEGIN:VCALENDAR
VERSION:2.0
PRODID:icalendar-ruby
CALSCALE:GREGORIAN
METHOD:PUBLISH
BEGIN:VEVENT
DTSTAMP:20260423T115115Z
UID:5-402948@doubleoakchristian.org
DTSTART:20260816T140000Z
DTEND:20260816T150000Z
CLASS:PUBLIC
CREATED:20260422T231807
DESCRIPTION:Sunday Worship
LAST-MODIFIED:20260422T231807
LOCATION:
SUMMARY:Sunday Worship
URL;VALUE=URI:https://doubleoakchristian.org/events/sunday-worship/2026-08-
 16
END:VEVENT
END:VCALENDAR
