BEGIN:VCALENDAR
VERSION:2.0
PRODID:icalendar-ruby
CALSCALE:GREGORIAN
METHOD:PUBLISH
BEGIN:VEVENT
DTSTAMP:20260423T132041Z
UID:5-403210@doubleoakchristian.org
DTSTART:20260823T140000Z
DTEND:20260823T150000Z
CLASS:PUBLIC
CREATED:20260423T084824
DESCRIPTION:Sunday Worship
LAST-MODIFIED:20260423T084824
LOCATION:
SUMMARY:Sunday Worship
URL;VALUE=URI:https://doubleoakchristian.org/events/sunday-worship/2026-08-
 23
END:VEVENT
END:VCALENDAR
