BEGIN:VCALENDAR
VERSION:2.0
PRODID:icalendar-ruby
CALSCALE:GREGORIAN
METHOD:PUBLISH
BEGIN:VEVENT
DTSTAMP:20260423T154836Z
UID:5-403473@doubleoakchristian.org
DTSTART:20260906T140000Z
DTEND:20260906T150000Z
CLASS:PUBLIC
CREATED:20260423T114045
DESCRIPTION:Sunday Worship
LAST-MODIFIED:20260423T114045
LOCATION:
SUMMARY:Sunday Worship
URL;VALUE=URI:https://doubleoakchristian.org/events/sunday-worship/2026-09-
 06
END:VEVENT
END:VCALENDAR
