BEGIN:VCALENDAR
VERSION:2.0
PRODID:icalendar-ruby
CALSCALE:GREGORIAN
METHOD:PUBLISH
BEGIN:VEVENT
DTSTAMP:20260423T171115Z
UID:5-403474@doubleoakchristian.org
DTSTART:20260913T140000Z
DTEND:20260913T150000Z
CLASS:PUBLIC
CREATED:20260423T114045
DESCRIPTION:Sunday Worship
LAST-MODIFIED:20260423T114045
LOCATION:
SUMMARY:Sunday Worship
URL;VALUE=URI:https://doubleoakchristian.org/events/sunday-worship/2026-09-
 13
END:VEVENT
END:VCALENDAR
