BEGIN:VCALENDAR
VERSION:2.0
PRODID:icalendar-ruby
CALSCALE:GREGORIAN
METHOD:PUBLISH
BEGIN:VEVENT
DTSTAMP:20260423T215943Z
UID:5-404000@doubleoakchristian.org
DTSTART:20261011T140000Z
DTEND:20261011T150000Z
CLASS:PUBLIC
CREATED:20260423T173218
DESCRIPTION:Sunday Worship
LAST-MODIFIED:20260423T173218
LOCATION:
SUMMARY:Sunday Worship
URL;VALUE=URI:https://doubleoakchristian.org/events/sunday-worship/2026-10-
 11
END:VEVENT
END:VCALENDAR
