BEGIN:VCALENDAR
VERSION:2.0
PRODID:icalendar-ruby
CALSCALE:GREGORIAN
METHOD:PUBLISH
BEGIN:VEVENT
DTSTAMP:20260424T015410Z
UID:5-404264@doubleoakchristian.org
DTSTART:20261101T150000Z
DTEND:20261101T160000Z
CLASS:PUBLIC
CREATED:20260423T202515
DESCRIPTION:Sunday Worship
LAST-MODIFIED:20260423T202515
LOCATION:
SUMMARY:Sunday Worship
URL;VALUE=URI:https://doubleoakchristian.org/events/sunday-worship/2026-11-
 01
END:VEVENT
END:VCALENDAR
